BEGIN:VCALENDAR
VERSION:2.0
PRODID:-//eventon.com NONSGML v1.0//EN
CALSCALE:GREGORIAN
METHOD:PUBLISH
BEGIN:VEVENT
UID:69e53928cf66f
DTSTAMP:20260419T202056Z
DTSTART:20250622T150000Z
DTEND:20250623T035900Z
LOCATION:
SUMMARY:Soulful Sunday Brunch
DESCRIPTION:Join us for an intimate Sunday brunch featuring legendary keybo
 ardist Dr. David Manning Thomas and Friends. This Cleveland musical icon—
 who has performed with Dizzy Gillespie\,  Grover Washington Jr.\,  and Jenn
 ifer Holliday—curates an afternoon of soulful jazz that honors the city&#
 8217;s rich musical heritage. Dr. Thomas\,  educator and composer behind wo
 rks[..]\nhttps://thesixty6.com/events/sunday-brunch-5/
URL:https://thesixty6.com/events/sunday-brunch-5/
END:VEVENT
END:VCALENDAR