BEGIN:VCALENDAR
VERSION:2.0
PRODID:-//eventon.com NONSGML v1.0//EN
CALSCALE:GREGORIAN
METHOD:PUBLISH
BEGIN:VEVENT
UID:69eb26722c1d8
DTSTAMP:20260424T081442Z
DTSTART:20260521T220000Z
DTEND:20260522T035900Z
LOCATION:
SUMMARY:Chris Burge Trio
DESCRIPTION:In Cleveland’s jazz community\,  some musicians are known as 
 much for their collaboration as for their individual voice. Chris Burge is 
 part of that lineage—a drummer and bandleader whose work moves across jaz
 z\,  funk\,  and contemporary improvisation. As a performer and educator ba
 sed in Northeast Ohio\,  Burge has built a[..]\nhttps://thesixty6.com/event
 s/chris-burge-trio-2/
URL:https://thesixty6.com/events/chris-burge-trio-2/
END:VEVENT
END:VCALENDAR