BEGIN:VCALENDAR
VERSION:2.0
PRODID:-//eventon.com NONSGML v1.0//EN
CALSCALE:GREGORIAN
METHOD:PUBLISH
BEGIN:VEVENT
UID:69eb24d1eb0ad
DTSTAMP:20260424T080745Z
DTSTART:20260510T200000Z
DTEND:20260511T035900Z
LOCATION:
SUMMARY:Leo's Casino
DESCRIPTION:In Cleveland\,  the name Leo’s Casino carries history. The or
 iginal club\,  open in the 1960s and 70s\,  was a central stop on the Chitl
 in’ Circuit\,  hosting artists like James Brown\,  Aretha Franklin\,  and
  The Supremes. Today\,  Leo’s Casino lives on as a Cleveland-based band a
 nd project dedicated to that legacy—revisiting[..]\nhttps://thesixty6.com
 /events/leos-casino-cleveland-soul-live/
URL:https://thesixty6.com/events/leos-casino-cleveland-soul-live/
END:VEVENT
END:VCALENDAR