BEGIN:VCALENDAR
VERSION:2.0
PRODID:-//eventon.com NONSGML v1.0//EN
CALSCALE:GREGORIAN
METHOD:PUBLISH
BEGIN:VEVENT
UID:69e888c3d49e8
DTSTAMP:20260422T083723Z
DTSTART:20260329T180000Z
DTEND:20260330T035900Z
LOCATION:
SUMMARY:Vince Robinson and The Jazz Poets
DESCRIPTION:Sunday brunch at The Sixty6 continues with one of Cleveland’s
  most distinctive and enduring artistic ensembles — Vince Robinson and Th
 e Jazz Poets. Formed in 1997\,  The Jazz Poets blend live jazz with the pow
 er and intimacy of spoken word\,  creating performances that are as thought
 -provoking as they are musically[..]\nhttps://thesixty6.com/events/vince-ro
 binson-jazz-poets-sixty6-march-29-2026/
URL:https://thesixty6.com/events/vince-robinson-jazz-poets-sixty6-march-29-2026/
END:VEVENT
END:VCALENDAR