BEGIN:VCALENDAR
VERSION:2.0
PRODID:-//eventon.com NONSGML v1.0//EN
CALSCALE:GREGORIAN
METHOD:PUBLISH
BEGIN:VEVENT
UID:69eb25769bac2
DTSTAMP:20260424T081030Z
DTSTART:20260418T230000Z
DTEND:20260419T035900Z
LOCATION:
SUMMARY:Latin City Soul Band
DESCRIPTION:Get ready to dance with Latin City Soul Band\,  the high-energy
  10-piece ensemble from Lorain\,  Ohio that brings explosive Latin rhythms\
 ,  soulful melodies\,  and vibrant energy to Cleveland. This ultimate dance
  band crosses all genres with masterful versatility—from smooth jazz to C
 uban timba\,  salsa to Motown. Featuring powerhouse vocals from[..]\nhttps:
 //thesixty6.com/events/latin-city-soul-band/
URL:https://thesixty6.com/events/latin-city-soul-band/
END:VEVENT
END:VCALENDAR