BEGIN:VCALENDAR
VERSION:2.0
PRODID:-//eventon.com NONSGML v1.0//EN
CALSCALE:GREGORIAN
METHOD:PUBLISH
BEGIN:VEVENT
UID:69eb26723e0a1
DTSTAMP:20260424T081442Z
DTSTART:20260419T200000Z
DTEND:20260420T035900Z
LOCATION:
SUMMARY:Leo's Casino
DESCRIPTION:The legacy of Leo’s Casino continues through live\,  communit
 y-centered experiences that honor the music\,  stories\,  and cultural impa
 ct of the legendary Euclid Avenue jazz and R&amp;B club. Rather than existi
 ng only as history\,  Leo’s is brought into the present through events de
 signed to encourage listening\,  reflection\,  and shared memory. These[..]
 \nhttps://thesixty6.com/events/leos-casino/
URL:https://thesixty6.com/events/leos-casino/
END:VEVENT
END:VCALENDAR