BEGIN:VCALENDAR
VERSION:2.0
PRODID:-//eventon.com NONSGML v1.0//EN
CALSCALE:GREGORIAN
METHOD:PUBLISH
BEGIN:VEVENT
UID:69e9f47104244
DTSTAMP:20260423T102905Z
DTSTART:20260228T230000Z
DTEND:20260301T045900Z
LOCATION:
SUMMARY:Jackie O and Friends
DESCRIPTION:Experience R&amp;B soul with a funk vibe when Jackie O and Frie
 nds take the stage on February 28\,  bringing timeless sound and irresistib
 le rhythm. Free admission\,  no tickets required. Support local artists wit
 h a tax-deductible donation to The Sixty6’s performer fund through The Cl
 eveland Foundation.\nhttps://thesixty6.com/events/jackie-o-and-friends/
URL:https://thesixty6.com/events/jackie-o-and-friends/
END:VEVENT
END:VCALENDAR