BEGIN:VCALENDAR
VERSION:2.0
PRODID:-//eventon.com NONSGML v1.0//EN
CALSCALE:GREGORIAN
METHOD:PUBLISH
BEGIN:VEVENT
UID:69e7e8e31ab59
DTSTAMP:20260421T211515Z
DTSTART:20250719T180000Z
DTEND:20250719T210000Z
LOCATION:
SUMMARY:Cr8 - Strictly Vinyl
DESCRIPTION:Cr8 at The Sixty6 is a strictly vinyl DJ experience curated by 
 DJ Red-I\,  bringing deep grooves\,  rare cuts\,  and timeless sounds to Cl
 eveland’s newest music hub. Featuring sets from top local DJs and a pop-u
 p record shop powered by Brittany’s Record Shop\,  Cr8 celebrates vinyl c
 ulture\,  community\,  and crate-digging[..]\nhttp://thesixty6.com/events/c
 r8-strictly-vinyl-3/
URL:http://thesixty6.com/events/cr8-strictly-vinyl-3/
END:VEVENT
END:VCALENDAR