BEGIN:VCALENDAR
VERSION:2.0
PRODID:-//eventon.com NONSGML v1.0//EN
CALSCALE:GREGORIAN
METHOD:PUBLISH
BEGIN:VEVENT
UID:69e4d6b95f4c0
DTSTAMP:20260419T132057Z
DTSTART:20260328T200000Z
DTEND:20260329T035900Z
LOCATION:
SUMMARY:Cleveland Blues Jam featuring Wallace Coleman and The SpYder Stompers
DESCRIPTION:The afternoon begins with a featured performance by The Wallace
  Coleman Band\,  led by Cleveland blues legend Wallace Coleman\,  whose car
 eer spans generations and includes sharing the stage with Muddy Waters. His
  voice\,  harmonica\,  and presence carry the sound and spirit of authentic
  American blues. Following their set\,  The SpYder[..]\nhttp://thesixty6.co
 m/events/cleveland-blues-jam-sixty6/
URL:http://thesixty6.com/events/cleveland-blues-jam-sixty6/
END:VEVENT
END:VCALENDAR