BEGIN:VCALENDAR
VERSION:2.0
PRODID:-//eventon.com NONSGML v1.0//EN
CALSCALE:GREGORIAN
METHOD:PUBLISH
BEGIN:VEVENT
UID:69ea047a28c4a
DTSTAMP:20260423T113730Z
DTSTART:20260308T180000Z
DTEND:20260309T035900Z
LOCATION:
SUMMARY:The Unit Band
DESCRIPTION:Sunday Brunch Performance Sunday afternoons at The Sixty6 Music
  Lounge and Studio take on a spirit of celebration as The Unit Band returns
  for a brunch performance shaped by groove\,  soul\,  and connection. Long 
 recognized as one of Northeast Ohio’s most beloved ensembles\,  The Unit 
 Band creates music that invites[..]\nhttp://thesixty6.com/events/the-unit-b
 and-sixty6-sunday-brunch-march-8-2026/
URL:http://thesixty6.com/events/the-unit-band-sixty6-sunday-brunch-march-8-2026/
END:VEVENT
END:VCALENDAR