BEGIN:VCALENDAR
VERSION:2.0
PRODID:-//eventon.com NONSGML v1.0//EN
CALSCALE:GREGORIAN
METHOD:PUBLISH
BEGIN:VEVENT
UID:69e9ed3b62a55
DTSTAMP:20260423T095819Z
DTSTART:20260222T000000Z
DTEND:20260222T045900Z
LOCATION:
SUMMARY:Wave Magnetik
DESCRIPTION:Trumpeter and sonic architect Donald Malloy\,  performing as Wa
 ve Magnetik\,  moves between breath and electricity. His trumpet becomes bo
 th voice and signal—improvisation carried on currents of rhythm\,  atmosp
 here\,  and pulse. What emerges is neither jazz nor electronic music alone\
 ,  but something suspended between: intimate\,  luminous\,  and alive in th
 e moment.[..]\nhttp://thesixty6.com/events/wave-magnetik-sixty6-cleveland-f
 ebruary-21/
URL:http://thesixty6.com/events/wave-magnetik-sixty6-cleveland-february-21/
END:VEVENT
END:VCALENDAR